BEGIN:VCALENDAR
VERSION:2.0
PRODID:-//wp-events-plugin.com//7.2.3.1//EN
TZID:Europe/Berlin
X-WR-TIMEZONE:Europe/Berlin
BEGIN:VEVENT
UID:64@landesfrauenrat-s-h.de
DTSTART:20220928T180000Z
DTEND:20220928T200000Z
DTSTAMP:20220118T142206Z
URL:https://landesfrauenrat-s-h.de/events/schweigen-ist-keine-loesung-zur-
 entkriminalisierung-von-schwangerschaftsabbruechen
SUMMARY:Schweigen ist keine Lösung - Zur Entkriminalisierung von Schwanger
 schaftsabbrüchen
DESCRIPTION:Forderung\, Abtreibung zu legalisieren: 2021 war das Thema\nSch
 wangerschaftsabbruch in den Medien sehr präsent.\nGleichzeitig reihen sic
 h darum Mythen\, Vorurteile und Missverständnisse.\nDies wollen wir ände
 rn: faktenbasiert\, gesundheitsorientiert\,\nethisch und religiös reflekt
 iert. Ziel ist es\, Stigmatisierungen\, Diskriminierungen\,\nKriminalisier
 ung\, Vorurteile und Ängste abzubauen. Katja\nKrolzik-Matthei hat die Deb
 atten um Abtreibung in Europa mit den\nabweichenden Regelungen analysiert\
 , die unterschiedlichen Entwicklungslinien\nin Ost- und Westdeutschland er
 forscht und kennt die\nfeministischen Debatten zur Abtreibung. Als Experti
 n kommt sie mit\nuns am internationalen Safe Abortion Day ins Gespräch.\n
 \nReferentin Katja Krolzik-Matthei\, Merseburg\n\nLeitung Susanne Sengstoc
 k\, Frauenwerk der Nordkirche\n\nOrt Online\n\nKosten keine\n\nFür alle\n
 \nweitere Informationen und Anmeldung\n\n&nbsp\;\n\n&nbsp\;\n\n&nbsp\;
CATEGORIES:öffentliche Veranstaltung,Vortrag
END:VEVENT
END:VCALENDAR