BEGIN:VCALENDAR
VERSION:2.0
PRODID:-//wp-events-plugin.com//7.2.3.1//EN
TZID:Europe/Berlin
X-WR-TIMEZONE:Europe/Berlin
BEGIN:VEVENT
UID:56@landesfrauenrat-s-h.de
DTSTART:20220914T180000Z
DTEND:20220914T190000Z
DTSTAMP:20220118T135514Z
URL:https://landesfrauenrat-s-h.de/events/unter-uns-gesagt-6
SUMMARY:Unter uns gesagt!
DESCRIPTION:in Kooperation mit der Hermann-Ehlers-Akademie\n\nweitere Infor
 mationen und Anmeldung\n\n&nbsp\;
CATEGORIES:öffentliche Veranstaltung,Vortrag
END:VEVENT
END:VCALENDAR